BEGIN:VCALENDAR
VERSION:2.0
PRODID:-//Primigenius - ECPv6.15.20//NONSGML v1.0//EN
CALSCALE:GREGORIAN
METHOD:PUBLISH
X-WR-CALNAME:Primigenius
X-ORIGINAL-URL:https://www.primigenius.es
X-WR-CALDESC:Eventos para Primigenius
REFRESH-INTERVAL;VALUE=DURATION:PT1H
X-Robots-Tag:noindex
X-PUBLISHED-TTL:PT1H
BEGIN:VTIMEZONE
TZID:Europe/Paris
BEGIN:DAYLIGHT
TZOFFSETFROM:+0100
TZOFFSETTO:+0200
TZNAME:CEST
DTSTART:20250330T010000
END:DAYLIGHT
BEGIN:STANDARD
TZOFFSETFROM:+0200
TZOFFSETTO:+0100
TZNAME:CET
DTSTART:20251026T010000
END:STANDARD
BEGIN:DAYLIGHT
TZOFFSETFROM:+0100
TZOFFSETTO:+0200
TZNAME:CEST
DTSTART:20260329T010000
END:DAYLIGHT
BEGIN:STANDARD
TZOFFSETFROM:+0200
TZOFFSETTO:+0100
TZNAME:CET
DTSTART:20261025T010000
END:STANDARD
BEGIN:DAYLIGHT
TZOFFSETFROM:+0100
TZOFFSETTO:+0200
TZNAME:CEST
DTSTART:20270328T010000
END:DAYLIGHT
BEGIN:STANDARD
TZOFFSETFROM:+0200
TZOFFSETTO:+0100
TZNAME:CET
DTSTART:20271031T010000
END:STANDARD
END:VTIMEZONE
BEGIN:VEVENT
DTSTART;TZID=Europe/Paris:20260326T093000
DTEND;TZID=Europe/Paris:20260326T113000
DTSTAMP:20260421T132322
CREATED:20260325T111050Z
LAST-MODIFIED:20260325T111050Z
UID:1127-1774517400-1774524600@www.primigenius.es
SUMMARY:RECICLON EN BUSCA DE LA TRES ERRES- CAMPAÑA MEDIOAMBIENTAL
DESCRIPTION:Reciclón un concienzudo y concienciado investigador del Planeta Tierra\, acaba de llegar en su vehículo de “motor propulsado a pedorretas” .Viene directamente de su laboratorio\, donde ha observado que su detector de contaminantes y malas costumbres está a punto de reventar. Nuestra Madre Tierra esta enferma\, muy enferma. Pero aún podemos ayudarla. Es importante que l@s niñ@s colaboren\, porque ellos son los que habitarán el planeta en el futuro. Con sus canciones reutilizadas\, sus instrumentos musicales reciclados\, sus propuestas y sobre todo sus cuentos mostrará a l@s niñ@s que cuidar de nuestro entorno es algo fundamental\, divertido y participativo.
URL:https://www.primigenius.es/evento/reciclon-en-busca-de-la-tres-erres-campana-medioambiental/
LOCATION:COLEGIO MARTIN CHICO\, ILLESCAS\, TOLEDO\, Spain
CATEGORIES:CUENTACUENTOS,MEDIO AMBIENTE
ATTACH;FMTTYPE=image/jpeg:https://www.primigenius.es/2023/wp-content/uploads/2023/07/WhatsApp-Image-2023-01-17-at-11.16.31-2.jpeg
END:VEVENT
BEGIN:VEVENT
DTSTART;TZID=Europe/Paris:20260326T100000
DTEND;TZID=Europe/Paris:20260326T120000
DTSTAMP:20260421T132322
CREATED:20260325T110633Z
LAST-MODIFIED:20260325T110633Z
UID:1123-1774519200-1774526400@www.primigenius.es
SUMMARY:LOS PEQUEÑOS A LA BIBLIOTECA- CUENTACUENTOS
DESCRIPTION:Las Bibliotecas Públicas de la Comunidad de Madrid desarrollan campañas de fomento de la lectura destinadas a las primeras etapas del proceso educativo con el objetivo de que los más pequeños se familiaricen con los libros\, las historias y el conocimiento y cuenten con las bibliotecas para pasar su tiempo de ocio. \n\n\n\n\n\n\n\nLa biblioteca\, junto con la escuela y las familias\, son motores decisivos para que la lectura forme parte de la vida de todos. \nLos pequeños en la biblioteca es una campaña de larga tradición en la Red de Bibliotecas de la Comunidad de Madrid\, que pretende potenciar el hábito lector y acercar a niñas y niños de 3º de Educación Infantil\, ya familiarizados con los preliminares de la lectura\, a los libros y las bibliotecas. Se completa con Explora nuevos mundos\, dirigida a Educación Primaria.
URL:https://www.primigenius.es/evento/los-pequenos-a-la-biblioteca-cuentacuentos/
LOCATION:BIBLIOTECA JAVIER MARIAS MORATALAZ
CATEGORIES:CUENTACUENTOS,FOMENTO LECTOR
ATTACH;FMTTYPE=image/jpeg:https://www.primigenius.es/2023/wp-content/uploads/2023/07/cucutras-con-libro-y-nina.jpg
END:VEVENT
END:VCALENDAR