BEGIN:VCALENDAR
VERSION:2.0
PRODID:-//Primigenius - ECPv6.15.20//NONSGML v1.0//EN
CALSCALE:GREGORIAN
METHOD:PUBLISH
X-WR-CALNAME:Primigenius
X-ORIGINAL-URL:https://www.primigenius.es
X-WR-CALDESC:Eventos para Primigenius
REFRESH-INTERVAL;VALUE=DURATION:PT1H
X-Robots-Tag:noindex
X-PUBLISHED-TTL:PT1H
BEGIN:VTIMEZONE
TZID:Europe/Paris
BEGIN:DAYLIGHT
TZOFFSETFROM:+0100
TZOFFSETTO:+0200
TZNAME:CEST
DTSTART:20250330T010000
END:DAYLIGHT
BEGIN:STANDARD
TZOFFSETFROM:+0200
TZOFFSETTO:+0100
TZNAME:CET
DTSTART:20251026T010000
END:STANDARD
BEGIN:DAYLIGHT
TZOFFSETFROM:+0100
TZOFFSETTO:+0200
TZNAME:CEST
DTSTART:20260329T010000
END:DAYLIGHT
BEGIN:STANDARD
TZOFFSETFROM:+0200
TZOFFSETTO:+0100
TZNAME:CET
DTSTART:20261025T010000
END:STANDARD
BEGIN:DAYLIGHT
TZOFFSETFROM:+0100
TZOFFSETTO:+0200
TZNAME:CEST
DTSTART:20270328T010000
END:DAYLIGHT
BEGIN:STANDARD
TZOFFSETFROM:+0200
TZOFFSETTO:+0100
TZNAME:CET
DTSTART:20271031T010000
END:STANDARD
END:VTIMEZONE
BEGIN:VEVENT
DTSTART;TZID=Europe/Paris:20260417T173000
DTEND;TZID=Europe/Paris:20260417T183000
DTSTAMP:20260422T101148
CREATED:20260413T143838Z
LAST-MODIFIED:20260413T143838Z
UID:1183-1776447000-1776450600@www.primigenius.es
SUMMARY:CUENTACUENTOS PARA BEBES. CUENTOS DE SOL Y LUNA
DESCRIPTION:Palabra que canta\, encanto que cuenta\, dramaturgia de lo invisible y jitanjáfora musical. \nSortilegio de peluche\, ukelele y ciempiés.
URL:https://www.primigenius.es/evento/cuentacuentos-para-bebes-cuentos-de-sol-y-luna/
LOCATION:BIBLIOTECA JAVIER DE LA PEÑA\, CALLE JUANA FRANCES\,63\, PINTO\, MADRID\, 28320\, Spain
CATEGORIES:BEBES,Cuentacuento
ATTACH;FMTTYPE=image/jpeg:https://www.primigenius.es/2023/wp-content/uploads/2023/07/cucutras-con-instrumentos.jpg
END:VEVENT
END:VCALENDAR