BEGIN:VCALENDAR
VERSION:2.0
PRODID:-//Primigenius - ECPv6.15.20//NONSGML v1.0//EN
CALSCALE:GREGORIAN
METHOD:PUBLISH
X-ORIGINAL-URL:https://www.primigenius.es
X-WR-CALDESC:Eventos para Primigenius
REFRESH-INTERVAL;VALUE=DURATION:PT1H
X-Robots-Tag:noindex
X-PUBLISHED-TTL:PT1H
BEGIN:VTIMEZONE
TZID:Europe/Paris
BEGIN:DAYLIGHT
TZOFFSETFROM:+0100
TZOFFSETTO:+0200
TZNAME:CEST
DTSTART:20250330T010000
END:DAYLIGHT
BEGIN:STANDARD
TZOFFSETFROM:+0200
TZOFFSETTO:+0100
TZNAME:CET
DTSTART:20251026T010000
END:STANDARD
BEGIN:DAYLIGHT
TZOFFSETFROM:+0100
TZOFFSETTO:+0200
TZNAME:CEST
DTSTART:20260329T010000
END:DAYLIGHT
BEGIN:STANDARD
TZOFFSETFROM:+0200
TZOFFSETTO:+0100
TZNAME:CET
DTSTART:20261025T010000
END:STANDARD
BEGIN:DAYLIGHT
TZOFFSETFROM:+0100
TZOFFSETTO:+0200
TZNAME:CEST
DTSTART:20270328T010000
END:DAYLIGHT
BEGIN:STANDARD
TZOFFSETFROM:+0200
TZOFFSETTO:+0100
TZNAME:CET
DTSTART:20271031T010000
END:STANDARD
END:VTIMEZONE
BEGIN:VEVENT
DTSTART;TZID=Europe/Paris:20260416T100000
DTEND;TZID=Europe/Paris:20260416T120000
DTSTAMP:20260422T102903
CREATED:20260413T142428Z
LAST-MODIFIED:20260413T142428Z
UID:1172-1776333600-1776340800@www.primigenius.es
SUMMARY:CUENTACUENTOS  PARA BEBES- CUCU-TRÁS
DESCRIPTION:Cucu-trás. \nUn delicado espectáculo de cuentos y folklor infantil para bebes de 9 a 36 meses. Voces antiguas… Primer encuentro con la palabra poética\, ternura de peluche\, canciones de sortilegio….cantar\, contar y jugar. Y así al ton y al són \,al ritmo del corazón\, nos adentramos en el mundo hipnótico de la tradición\, del otra vez… otra vez… otra vez. \nLuna lunera cascabelera ojos azules y cara morena…
URL:https://www.primigenius.es/evento/cuentacuentos-para-bebes-cucu-tras/
LOCATION:ESCUELA INFANIL ARDILLAS\, TORRELODONES
CATEGORIES:BEBES,Cuentacuento,MUSICA
ATTACH;FMTTYPE=image/jpeg:https://www.primigenius.es/2023/wp-content/uploads/2023/07/cucutras-cartel.jpg
END:VEVENT
END:VCALENDAR